BEGIN:VCALENDAR
VERSION:2.0
PRODID:-//hacksw/handcal//NONSGML v1.0//EN
CALSCALE:GREGORIAN
X-WR-TIMEZONE:Europe/Prague
X-WR-CALNAME:24. oddíl skautů Orionis
X-WR-CALDESC:Termínka 24. oddílu skautů.
BEGIN:VEVENT
UID:69e4c7f8affd7
SUMMARY:Turnaje bez Žalý
DTSTART:20260313T155000Z
DTEND:20260315T152500Z
DESCRIPTION:Celostřediskové turnaje nejen ve stolních hrách..\n\nOdkaz na akci: https://www.24sever.org/24-oddil-skautu-orionis-terminka/turnaje-bez-zaly-3467/
LOCATION:Pardubice
DTSTAMP:20260419T141800Z
TRANSP:TRANSPARENT
STATUS:CONFIRMED
END:VEVENT
END:VCALENDAR
