BEGIN:VCALENDAR
VERSION:2.0
PRODID:-//hacksw/handcal//NONSGML v1.0//EN
CALSCALE:GREGORIAN
X-WR-TIMEZONE:Europe/Prague
X-WR-CALNAME:24. oddíl skautů Orionis
X-WR-CALDESC:Termínka 24. oddílu skautů.
BEGIN:VEVENT
UID:69e5884fe0d35
SUMMARY:POZOR ZMĚNA návštěva poslanecké sněmovny 
DTSTART;VALUE=DATE:20260420
DTEND;VALUE=DATE:20260512
DESCRIPTION:Odkaz na akci: https://www.24sever.org/24-oddil-skautu-orionis-terminka/navsteva-poslanecke-snemovny-3614/
LOCATION:Malá strana
DTSTAMP:20260420T035839Z
TRANSP:TRANSPARENT
STATUS:CONFIRMED
END:VEVENT
END:VCALENDAR
