BEGIN:VCALENDAR
VERSION:2.0
PRODID:-//hacksw/handcal//NONSGML v1.0//EN
CALSCALE:GREGORIAN
X-WR-TIMEZONE:Europe/Prague
X-WR-CALNAME:24. oddíl skautek Amnis
X-WR-CALDESC:Termínka 24. oddílu skautek.
BEGIN:VEVENT
UID:69e5a3b9ce084
SUMMARY:Květinový den
DTSTART;VALUE=DATE:20260513
DTEND;VALUE=DATE:20260514
DESCRIPTION:Odkaz na akci: https://www.24sever.org/24-oddil-skautek-amnis-terminka/kvetinovy-den-3600/
LOCATION:
DTSTAMP:20260420T055537Z
TRANSP:TRANSPARENT
STATUS:CONFIRMED
END:VEVENT
END:VCALENDAR
