BEGIN:VCALENDAR
VERSION:2.0
PRODID:-//hacksw/handcal//NONSGML v1.0//EN
CALSCALE:GREGORIAN
X-WR-TIMEZONE:Europe/Prague
X-WR-CALNAME:24. kmen roverů Atlantis
X-WR-CALDESC:Termínka 24. kmene roverů Atlantis.
BEGIN:VEVENT
UID:69e59f97231ac
SUMMARY:Návštěva tábora v Mladoticích 
DTSTART;VALUE=DATE:20260702
DTEND;VALUE=DATE:20260706
DESCRIPTION:Zejmena pro čistokrevné rovery.\n\nOdkaz na akci: https://www.24sever.org/24-kmen-roveru-atlantis-terminka/navsteva-tabora-v-mladoticich-3617/
LOCATION:
DTSTAMP:20260420T053759Z
TRANSP:TRANSPARENT
STATUS:CONFIRMED
END:VEVENT
END:VCALENDAR
