BEGIN:VCALENDAR
VERSION:2.0
PRODID:-//hacksw/handcal//NONSGML v1.0//EN
CALSCALE:GREGORIAN
X-WR-TIMEZONE:Europe/Prague
X-WR-CALNAME:24. kmen roverů Atlantis
X-WR-CALDESC:Termínka 24. kmene roverů Atlantis.
BEGIN:VEVENT
UID:69e59fbae4887
SUMMARY:Brigáda
DTSTART;VALUE=DATE:20260522
DTEND;VALUE=DATE:20260525
DESCRIPTION:Na klubovně či v Mladoticích .\n\nOdkaz na akci: https://www.24sever.org/24-kmen-roveru-atlantis-terminka/brigada-3603/
LOCATION:
DTSTAMP:20260420T053834Z
TRANSP:TRANSPARENT
STATUS:CONFIRMED
END:VEVENT
END:VCALENDAR
